BEGIN:VCALENDAR
VERSION:2.0
PRODID:-//Hamsun-Selskapet - ECPv6.15.20//NONSGML v1.0//EN
CALSCALE:GREGORIAN
METHOD:PUBLISH
X-ORIGINAL-URL:https://hamsun-selskapet.no
X-WR-CALDESC:Arrangement for Hamsun-Selskapet
REFRESH-INTERVAL;VALUE=DURATION:PT1H
X-Robots-Tag:noindex
X-PUBLISHED-TTL:PT1H
BEGIN:VTIMEZONE
TZID:Europe/Paris
BEGIN:DAYLIGHT
TZOFFSETFROM:+0100
TZOFFSETTO:+0200
TZNAME:CEST
DTSTART:20210328T010000
END:DAYLIGHT
BEGIN:STANDARD
TZOFFSETFROM:+0200
TZOFFSETTO:+0100
TZNAME:CET
DTSTART:20211031T010000
END:STANDARD
BEGIN:DAYLIGHT
TZOFFSETFROM:+0100
TZOFFSETTO:+0200
TZNAME:CEST
DTSTART:20220327T010000
END:DAYLIGHT
BEGIN:STANDARD
TZOFFSETFROM:+0200
TZOFFSETTO:+0100
TZNAME:CET
DTSTART:20221030T010000
END:STANDARD
BEGIN:DAYLIGHT
TZOFFSETFROM:+0100
TZOFFSETTO:+0200
TZNAME:CEST
DTSTART:20230326T010000
END:DAYLIGHT
BEGIN:STANDARD
TZOFFSETFROM:+0200
TZOFFSETTO:+0100
TZNAME:CET
DTSTART:20231029T010000
END:STANDARD
END:VTIMEZONE
BEGIN:VEVENT
DTSTART;TZID=Europe/Paris:20220315T113000
DTEND;TZID=Europe/Paris:20220315T120000
DTSTAMP:20260420T092755
CREATED:20220313T212533Z
LAST-MODIFIED:20220313T212533Z
UID:2121-1647343800-1647345600@hamsun-selskapet.no
SUMMARY:Hamsun og nazismen\, riktig forstått
DESCRIPTION:NTNU presenterer foredraget slik på sin facebookside:\n\n«Ståle Dingstad skapte våren 2021 stor debatt med boken Hamsun og det norske Holocaust. Gamle fronter ble trukket opp på ny og i sentrum stod Hamsuns nazisme\, litteratur og eventuelle storhet: Kan en nazistisk antisemitt også være en stor forfatter? Kan nazistisk litteratur også være god litteratur? Ifølge Dingstad var svaret soleklart «nei». Flere kom Hamsun til unnsetning og mente at her blandet man kortene: Litteratur og politikk var galt forstått. Igjen dominerte «Hamsun-problemet» den litterære debatten for en tid. Men hva kom egentlig ut av det? Fant man en tilfredsstillende avklaring i synet på den store forfatteren?\n\n\nForedragsholder: Frode Lerum Boasson\n15.mars / 11:30-12:00 /Lysholmbiblioteket\, Kalvskinnet\nStreames på Facebook\n\n\n«Friminuttet» er lunchforedragene våre på Lysholmbiblioteket. Her kan du oppleve både fagfolk og studenter som har noe viktig å formidle\, og du kan selv bli med i samtalen om det vi lærer. Vi tror at kunnskap og engasjement er den aller beste måten å møte verden på\, og at ulike perspektiver beriker hverandre.\nTa gjerne med matpakka – vi serverer kaffe og te. Velkommen til oss! «
URL:https://hamsun-selskapet.no/event/hamsun-og-nazismen-riktig-forstatt/
LOCATION:NTNU / facebook\, Lysholmbiblioteket på Kalvskinnet\, Trondheim
CATEGORIES:Debatt,Foredrag
END:VEVENT
END:VCALENDAR